Workbook

Sheet INTRO
B2: SIMPLE CAPITAL IMPROVEMENT PLAN (CIP) TEMPLATE | D2: VIEW INTRODUCTORY GUIDE ON THE LUAU SITE
B3: INTRODUCTION The Capital Improvement Plan (CIP) is the planning mechanism by which the community allocates limited financial resources to implement long-term goals. These goals are typically outlined in long-range planning documents, such as a general plan or a specific master plan. The purpose of the CIP is to prioritize capital projects, then forecast and match projected revenues, potential funding sources, and major capital needs over a minimum five-year period. Once adopted by the community, the CIP becomes a statement of policy regarding the need, priority, timing, and funding of future capital projects. The CIP represents the best judgment of community leadership at the time of its adoption. Priorities established in the CIP guide subsequent decisions made by the community. LIVING DOCUMENT Although using a CIP encourages prudent financial management and is required by the Permanent Community Impact Board, the CIP is a flexible plan and is non-binding. As such, projects and funding mechanisms are subject to change over the five-year planning cycle based on new or shifting service needs, special financing opportunities, emergencies, or other priorities established by community leadership. PROCESS Before creating a capital improvement plan, we strongly recommend communities create or review their capital asset inventory to identify major renovations, repairs, or expansions. Leadership should also review any master plans (water, sewer, transportation, recreation) for previously identified projects, and consult the general plan to ensure alignment with long-term goals. Communities should define the minimum financial threshold for capital projects to be considered in the CIP. The CIB recommends $5,000, but this may vary by community. Potential projects—along with their estimated costs, long-term obligations, and potential funding—can then be listed using a simple form and prioritized using a consistent, systematic process. CIP projects are generally funded through a combination of appropriated fund balances (shown as “local”) and grant/loan funds. The CIP and the Annual Operating Budget are directly linked, as CIP projects become officially authorized through the adoption of the Annual Operating Budget. We strongly recommend examining estimated ongoing operations and maintenance costs; as CIP projects are completed, they will have direct, ongoing impacts on the community's operating budget. BENEFITS Capital planning is an important management tool that strengthens the linkage between community infrastructure needs and the financial capacity of the town. A well-maintained CIP provides several key benefits: Strategic Alignment: Helps communities strategically plan for the repair, replacement, and acquisition of capital items necessary for providing services to citizens. Fiscal Foresight: Assists in financial planning by forecasting capital demands alongside future revenues and expenditures. Optimized Coordination: Ensures better coordination, evaluation, and planning of projects to serve the community and its needs. Decision-Making Framework: Serves, together with the annual budget and other financial plans, as a guide to decision-making for community leadership and staff. Rational Budgeting: Provides a systematic and comprehensive analysis of capital needs, increasing the probability of making rational budgetary judgments since improvements are identified, prioritized, and matched to projected fiscal resources.
D17: What is a Capital Asset? Capital assets generally refer to a community’s high-cost assets that have an intended lifespan of more than a single year. These assets include roads, pipelines, water treatment, sewage facilities, vehicles, arenas, buildings, parks, and sheds.
D18: Using Other CIP Formats
D19: Communities are welcome to use other formats to complete a CIP. To meeting CIB's requirements, that format must include the following information.
D20: Template Criteria
D21: 5 Year Time Horizon
D22: Defined threshold of asset inclusion
D23: Estimated expenses
D24: Estimated revenue sources
D25: Projects are prioritized
D26: Project descriptions
D27: Considers all public assets of a community

Sheet PLAN
A1: CAPITAL PROJECTS | H1: THRESHOLD FOR INCLUSION: | I1: 5000
A2: CULINARY WATER
A3: PROJECT TITLE | B3: RANK | C3: PROJECT DESCRIPTION | D3: FY27 | E3: FY28 | F3: FY29 | G3: FY30 | H3: FY31 | I3: FUTURE YEARS
A10: TOTAL EXPENSE | D10: =SUM(D4:D9) -> 0 | E10: =SUM(E4:E9) -> 0 | F10: =SUM(F4:F9) -> 0 | G10: =SUM(G4:G9) -> 0 | H10: =SUM(H4:H9) -> 0 | I10: =SUM(I4:I9) -> 0
A12: TOTAL REVENUE | D12: =SUM(D13:D16) -> 0 | E12: =SUM(E13:E16) -> 0 | F12: =SUM(F13:F16) -> 0 | G12: =SUM(G13:G16) -> 0 | H12: =SUM(H13:H16) -> 0 | I12: =SUM(I13:I16) -> 0
A13: Local
A14: Grant
A15: Loan
A16: To Be Determined
A18: SEWER
A19: PROJECT TITLE | B19: RANK | C19: PROJECT DESCRIPTION | D19: FY27 | E19: FY28 | F19: FY29 | G19: FY30 | H19: FY31 | I19: FUTURE YEARS
A25: TOTAL EXPENSE | D25: =SUM(D20:D24) -> 0 | E25: =SUM(E20:E24) -> 0 | F25: =SUM(F20:F24) -> 0 | G25: =SUM(G20:G24) -> 0 | H25: =SUM(H20:H24) -> 0 | I25: =SUM(I20:I24) -> 0
A27: TOTAL REVENUE | D27: =SUM(D28:D31) -> 0 | E27: =SUM(E28:E31) -> 0 | F27: =SUM(F28:F31) -> 0 | G27: =SUM(G28:G31) -> 0 | H27: =SUM(H28:H31) -> 0 | I27: =SUM(I28:I31) -> 0
A28: Local
A29: Grant
A30: Loan
A31: To Be Determined
A33: SECONDARY WATER & STORMWATER
A34: PROJECT TITLE | B34: RANK | C34: PROJECT DESCRIPTION | D34: FY27 | E34: FY28 | F34: FY29 | G34: FY30 | H34: FY31 | I34: FUTURE YEARS
A40: TOTAL EXPENSE | D40: =SUM(D35:D39) -> 0 | E40: =SUM(E35:E39) -> 0 | F40: =SUM(F35:F39) -> 0 | G40: =SUM(G35:G39) -> 0 | H40: =SUM(H35:H39) -> 0 | I40: =SUM(I35:I39) -> 0
A42: TOTAL REVENUE | D42: =SUM(D43:D46) -> 0 | E42: =SUM(E43:E46) -> 0 | F42: =SUM(F43:F46) -> 0 | G42: =SUM(G43:G46) -> 0 | H42: =SUM(H43:H46) -> 0 | I42: =SUM(I43:I46) -> 0
A43: Local
A44: Grant
A45: Loan
A46: To Be Determined
A48: ROADS
A49: PROJECT TITLE | B49: RANK | C49: PROJECT DESCRIPTION | D49: FY27 | E49: FY28 | F49: FY29 | G49: FY30 | H49: FY31 | I49: FUTURE YEARS
A55: TOTAL EXPENSE | D55: =SUM(D50:D54) -> 0 | E55: =SUM(E50:E54) -> 0 | F55: =SUM(F50:F54) -> 0 | G55: =SUM(G50:G54) -> 0 | H55: =SUM(H50:H54) -> 0 | I55: =SUM(I50:I54) -> 0
A57: TOTAL REVENUE | D57: =SUM(D58:D61) -> 0 | E57: =SUM(E58:E61) -> 0 | F57: =SUM(F58:F61) -> 0 | G57: =SUM(G58:G61) -> 0 | H57: =SUM(H58:H61) -> 0 | I57: =SUM(I58:I61) -> 0
A58: Local
A59: Grant
A60: Loan
A61: To Be Determined
A63: COMMUNITY BUILDINGS
A64: PROJECT TITLE | B64: RANK | C64: PROJECT DESCRIPTION | D64: FY27 | E64: FY28 | F64: FY29 | G64: FY30 | H64: FY31 | I64: FUTURE YEARS
A70: TOTAL EXPENSE | D70: =SUM(D65:D69) -> 0 | E70: =SUM(E65:E69) -> 0 | F70: =SUM(F65:F69) -> 0 | G70: =SUM(G65:G69) -> 0 | H70: =SUM(H65:H69) -> 0 | I70: =SUM(I65:I69) -> 0
A72: TOTAL REVENUE | D72: =SUM(D73:D76) -> 0 | E72: =SUM(E73:E76) -> 0 | F72: =SUM(F73:F76) -> 0 | G72: =SUM(G73:G76) -> 0 | H72: =SUM(H73:H76) -> 0 | I72: =SUM(I73:I76) -> 0
A73: Local
A74: Grant
A75: Loan
...

Sheet SUMMARY
C1: FY27 | D1: FY28 | E1: FY29 | F1: FY30 | G1: FY31 | H1: FUTURE YEARS
A2: TOTAL EXPENSE | C2: =SUM(C11,C14,C17,C20,C23,C26,C29,C32,C35,C38,C41,C44,CC475,C8) -> 0 | D2: =SUM(D11,D14,D17,D20,D23,D26,D29,D32,D35,D38,D41,D44,CD475,D8) -> 0 | E2: =SUM(E11,E14,E17,E20,E23,E26,E29,E32,E35,E38,E41,E44,CE475,E8) -> 0 | F2: =SUM(F11,F14,F17,F20,F23,F26,F29,F32,F35,F38,F41,F44,CF475,F8) -> 0 | G2: =SUM(G11,G14,G17,G20,G23,G26,G29,G32,G35,G38,G41,G44,CG475,G8) -> 0 | H2: =SUM(H11,H14,H17,H20,H23,H26,H29,H32,H35,H38,H41,H44,CH475,H8) -> 0
A3: TOTAL REVENUE | C3: =SUM(C12,C15,C18,C21,C24,C27,C30,C33,C36,C39,C42,C45,CC476,C9) -> 0 | D3: =SUM(D12,D15,D18,D21,D24,D27,D30,D33,D36,D39,D42,D45,CD476,D9) -> 0 | E3: =SUM(E12,E15,E18,E21,E24,E27,E30,E33,E36,E39,E42,E45,CE476,E9) -> 0 | F3: =SUM(F12,F15,F18,F21,F24,F27,F30,F33,F36,F39,F42,F45,CF476,F9) -> 0 | G3: =SUM(G12,G15,G18,G21,G24,G27,G30,G33,G36,G39,G42,G45,CG476,G9) -> 0 | H3: =SUM(H12,H15,H18,H21,H24,H27,H30,H33,H36,H39,H42,H45,CH476,H9) -> 0
A5: CULINARY WATER | B5: EXPENSE | C5: =PLAN!D10 -> 0 | D5: =PLAN!E10 -> 0 | E5: =PLAN!F10 -> 0 | F5: =PLAN!G10 -> 0 | G5: =PLAN!H10 -> 0 | H5: =PLAN!I10 -> 0
B6: REVENUE | C6: =PLAN!D12 -> 0 | D6: =PLAN!E12 -> 0 | E6: =PLAN!F12 -> 0 | F6: =PLAN!G12 -> 0 | G6: =PLAN!H12 -> 0 | H6: =PLAN!I12 -> 0
A8: SEWER | B8: EXPENSE | C8: =PLAN!D25 -> 0 | D8: =PLAN!E25 -> 0 | E8: =PLAN!F25 -> 0 | F8: =PLAN!G25 -> 0 | G8: =PLAN!H25 -> 0 | H8: =PLAN!I25 -> 0
B9: REVENUE | C9: =PLAN!D27 -> 0 | D9: =PLAN!E27 -> 0 | E9: =PLAN!F27 -> 0 | F9: =PLAN!G27 -> 0 | G9: =PLAN!H27 -> 0 | H9: =PLAN!I27 -> 0
A11: SECONDARY WATER & STORMWATER | B11: EXPENSE | C11: =PLAN!D40 -> 0 | D11: =PLAN!E40 -> 0 | E11: =PLAN!F40 -> 0 | F11: =PLAN!G40 -> 0 | G11: =PLAN!H40 -> 0 | H11: =PLAN!I40 -> 0
B12: REVENUE | C12: =PLAN!D42 -> 0 | D12: =PLAN!E42 -> 0 | E12: =PLAN!F42 -> 0 | F12: =PLAN!G42 -> 0 | G12: =PLAN!H42 -> 0 | H12: =PLAN!I42 -> 0
A14: ROADS | B14: EXPENSE | C14: =PLAN!D55 -> 0 | D14: =PLAN!E55 -> 0 | E14: =PLAN!F55 -> 0 | F14: =PLAN!G55 -> 0 | G14: =PLAN!H55 -> 0 | H14: =PLAN!I55 -> 0
B15: REVENUE | C15: =PLAN!D57 -> 0 | D15: =PLAN!E57 -> 0 | E15: =PLAN!F57 -> 0 | F15: =PLAN!G57 -> 0 | G15: =PLAN!H57 -> 0 | H15: =PLAN!I57 -> 0
A17: COMMUNITY BUILDINGS | B17: EXPENSE | C17: =PLAN!D70 -> 0 | D17: =PLAN!E70 -> 0 | E17: =PLAN!F70 -> 0 | F17: =PLAN!G70 -> 0 | G17: =PLAN!H70 -> 0 | H17: =PLAN!I70 -> 0
B18: REVENUE | C18: =PLAN!D72 -> 0 | D18: =PLAN!E72 -> 0 | E18: =PLAN!F72 -> 0 | F18: =PLAN!G72 -> 0 | G18: =PLAN!H72 -> 0 | H18: =PLAN!I72 -> 0
A20: SOLID WASTE | B20: EXPENSE | C20: =PLAN!D85 -> 0 | D20: =PLAN!E85 -> 0 | E20: =PLAN!F85 -> 0 | F20: =PLAN!G85 -> 0 | G20: =PLAN!H85 -> 0 | H20: =PLAN!I85 -> 0
B21: REVENUE | C21: =PLAN!D87 -> 0 | D21: =PLAN!E87 -> 0 | E21: =PLAN!F87 -> 0 | F21: =PLAN!G87 -> 0 | G21: =PLAN!H87 -> 0 | H21: =PLAN!I87 -> 0
A23: FIRE & EMS | B23: EXPENSE | C23: =PLAN!D100 -> 0 | D23: =PLAN!E100 -> 0 | E23: =PLAN!F100 -> 0 | F23: =PLAN!G100 -> 0 | G23: =PLAN!H100 -> 0 | H23: =PLAN!I100 -> 0
B24: REVENUE | C24: =PLAN!D102 -> 0 | D24: =PLAN!E102 -> 0 | E24: =PLAN!F102 -> 0 | F24: =PLAN!G102 -> 0 | G24: =PLAN!H102 -> 0 | H24: =PLAN!I102 -> 0
A26: VEHICLES | B26: EXPENSE | C26: =PLAN!D115 -> 0 | D26: =PLAN!E115 -> 0 | E26: =PLAN!F115 -> 0 | F26: =PLAN!G115 -> 0 | G26: =PLAN!H115 -> 0 | H26: =PLAN!I115 -> 0
B27: REVENUE | C27: =PLAN!D117 -> 0 | D27: =PLAN!E117 -> 0 | E27: =PLAN!F117 -> 0 | F27: =PLAN!G117 -> 0 | G27: =PLAN!H117 -> 0 | H27: =PLAN!I117 -> 0
A29: PLANNING | B29: EXPENSE | C29: =PLAN!D130 -> 0 | D29: =PLAN!E130 -> 0 | E29: =PLAN!F130 -> 0 | F29: =PLAN!G130 -> 0 | G29: =PLAN!H130 -> 0 | H29: =PLAN!I130 -> 0
B30: REVENUE | C30: =PLAN!D132 -> 0 | D30: =PLAN!E132 -> 0 | E30: =PLAN!F132 -> 0 | F30: =PLAN!G132 -> 0 | G30: =PLAN!H132 -> 0 | H30: =PLAN!I132 -> 0
A32: PARKS & RECREATION | B32: EXPENSE | C32: =PLAN!D145 -> 0 | D32: =PLAN!E145 -> 0 | E32: =PLAN!F145 -> 0 | F32: =PLAN!G145 -> 0 | G32: =PLAN!H145 -> 0 | H32: =PLAN!I145 -> 0
B33: REVENUE | C33: =PLAN!D147 -> 0 | D33: =PLAN!E147 -> 0 | E33: =PLAN!F147 -> 0 | F33: =PLAN!G147 -> 0 | G33: =PLAN!H147 -> 0 | H33: =PLAN!I147 -> 0
A35: POWER | B35: EXPENSE | C35: =PLAN!D160 -> 0 | D35: =PLAN!E160 -> 0 | E35: =PLAN!F160 -> 0 | F35: =PLAN!G160 -> 0 | G35: =PLAN!H160 -> 0 | H35: =PLAN!I160 -> 0
B36: REVENUE | C36: =PLAN!D162 -> 0 | D36: =PLAN!E162 -> 0 | E36: =PLAN!F162 -> 0 | F36: =PLAN!G162 -> 0 | G36: =PLAN!H162 -> 0 | H36: =PLAN!I162 -> 0
A38: PUBLIC SAFETY | B38: EXPENSE | C38: =PLAN!D175 -> 0 | D38: =PLAN!E175 -> 0 | E38: =PLAN!F175 -> 0 | F38: =PLAN!G175 -> 0 | G38: =PLAN!H175 -> 0 | H38: =PLAN!I175 -> 0
B39: REVENUE | C39: =PLAN!D177 -> 0 | D39: =PLAN!E177 -> 0 | E39: =PLAN!F177 -> 0 | F39: =PLAN!G177 -> 0 | G39: =PLAN!H177 -> 0 | H39: =PLAN!I177 -> 0
A41: CEMETERY | B41: EXPENSE | C41: =PLAN!D190 -> 0 | D41: =PLAN!E190 -> 0 | E41: =PLAN!F190 -> 0 | F41: =PLAN!G190 -> 0 | G41: =PLAN!H190 -> 0 | H41: =PLAN!I190 -> 0
B42: REVENUE | C42: =PLAN!D192 -> 0 | D42: =PLAN!E192 -> 0 | E42: =PLAN!F192 -> 0 | F42: =PLAN!G192 -> 0 | G42: =PLAN!H192 -> 0 | H42: =PLAN!I192 -> 0
A44: AIRPORT | B44: EXPENSE | C44: =PLAN!D205 -> 0 | D44: =PLAN!E205 -> 0 | E44: =PLAN!F205 -> 0 | F44: =PLAN!G205 -> 0 | G44: =PLAN!H205 -> 0 | H44: =PLAN!I205 -> 0
B45: REVENUE | C45: =PLAN!D207 -> 0 | D45: =PLAN!E207 -> 0 | E45: =PLAN!F207 -> 0 | F45: =PLAN!G207 -> 0 | G45: =PLAN!H207 -> 0 | H45: =PLAN!I207 -> 0
A47: OTHER | B47: EXPENSE | C47: =PLAN!D220 -> 0 | D47: =PLAN!E220 -> 0 | E47: =PLAN!F220 -> 0 | F47: =PLAN!G220 -> 0 | G47: =PLAN!H220 -> 0 | H47: =PLAN!I220 -> 0
B48: REVENUE | C48: =PLAN!D222 -> 0 | D48: =PLAN!E222 -> 0 | E48: =PLAN!F222 -> 0 | F48: =PLAN!G222 -> 0 | G48: =PLAN!H222 -> 0 | H48: =PLAN!I222 -> 0
